BEGIN:VCALENDAR
VERSION:2.0
PRODID:-//Bilingual Babies - ECPv6.15.13//NONSGML v1.0//EN
CALSCALE:GREGORIAN
METHOD:PUBLISH
X-WR-CALNAME:Bilingual Babies
X-ORIGINAL-URL:https://bilingual-babies.com
X-WR-CALDESC:Events for Bilingual Babies
REFRESH-INTERVAL;VALUE=DURATION:PT1H
X-Robots-Tag:noindex
X-PUBLISHED-TTL:PT1H
BEGIN:VTIMEZONE
TZID:America/New_York
BEGIN:DAYLIGHT
TZOFFSETFROM:-0500
TZOFFSETTO:-0400
TZNAME:EDT
DTSTART:20170312T070000
END:DAYLIGHT
BEGIN:STANDARD
TZOFFSETFROM:-0400
TZOFFSETTO:-0500
TZNAME:EST
DTSTART:20171105T060000
END:STANDARD
BEGIN:DAYLIGHT
TZOFFSETFROM:-0500
TZOFFSETTO:-0400
TZNAME:EDT
DTSTART:20180311T070000
END:DAYLIGHT
BEGIN:STANDARD
TZOFFSETFROM:-0400
TZOFFSETTO:-0500
TZNAME:EST
DTSTART:20181104T060000
END:STANDARD
BEGIN:DAYLIGHT
TZOFFSETFROM:-0500
TZOFFSETTO:-0400
TZNAME:EDT
DTSTART:20190310T070000
END:DAYLIGHT
BEGIN:STANDARD
TZOFFSETFROM:-0400
TZOFFSETTO:-0500
TZNAME:EST
DTSTART:20191103T060000
END:STANDARD
BEGIN:DAYLIGHT
TZOFFSETFROM:-0500
TZOFFSETTO:-0400
TZNAME:EDT
DTSTART:20200308T070000
END:DAYLIGHT
BEGIN:STANDARD
TZOFFSETFROM:-0400
TZOFFSETTO:-0500
TZNAME:EST
DTSTART:20201101T060000
END:STANDARD
BEGIN:DAYLIGHT
TZOFFSETFROM:-0500
TZOFFSETTO:-0400
TZNAME:EDT
DTSTART:20210314T070000
END:DAYLIGHT
BEGIN:STANDARD
TZOFFSETFROM:-0400
TZOFFSETTO:-0500
TZNAME:EST
DTSTART:20211107T060000
END:STANDARD
END:VTIMEZONE
BEGIN:VTIMEZONE
TZID:UTC
BEGIN:STANDARD
TZOFFSETFROM:+0000
TZOFFSETTO:+0000
TZNAME:UTC
DTSTART:20170101T000000
END:STANDARD
END:VTIMEZONE
BEGIN:VEVENT
DTSTART;TZID=America/New_York:20200222T090000
DTEND;TZID=America/New_York:20200222T113000
DTSTAMP:20260423T014109
CREATED:20200202T034705Z
LAST-MODIFIED:20200202T034705Z
UID:3025-1582362000-1582371000@bilingual-babies.com
SUMMARY:Book & Bake Sale
DESCRIPTION:Buy German books for children and adults (very affordable!) while enjoying some homemade cake and goodies at the German Language School of Morris County! \n 
URL:https://bilingual-babies.com/event/book-bake-sale/
LOCATION:Morristown Beard School\, 70 Whippany Rd.\, Morristown\, NJ\, 07960\, United States
CATEGORIES:Book & bake sale
ATTACH;FMTTYPE=image/jpeg:https://bilingual-babies.com/wp-content/uploads/2020/02/books-3482286_1920.jpg
END:VEVENT
BEGIN:VEVENT
DTSTART;TZID=America/New_York:20200214T163000
DTEND;TZID=America/New_York:20200214T171500
DTSTAMP:20260423T014109
CREATED:20200209T203007Z
LAST-MODIFIED:20200209T203007Z
UID:3042-1581697800-1581700500@bilingual-babies.com
SUMMARY:German Story Time with KinderBooks NYC
DESCRIPTION:Come and join us as we read funny and smart\, classic and new picture books in German and sing a song or two. All are welcome. For more information see www.kinderbooks.nyc.
URL:https://bilingual-babies.com/event/german-story-time-with-kinderbooks-nyc/
LOCATION:Book Culture on Broadway\, 2915 Broadway\, New York\, NY\, 10025\, United States
CATEGORIES:Story time
ATTACH;FMTTYPE=image/jpeg:https://bilingual-babies.com/wp-content/uploads/2018/06/IMG_2456.jpeg
END:VEVENT
BEGIN:VEVENT
DTSTART;TZID=America/New_York:20200126T103000
DTEND;TZID=America/New_York:20200126T123000
DTSTAMP:20260423T014109
CREATED:20200112T123856Z
LAST-MODIFIED:20200112T125335Z
UID:2968-1580034600-1580041800@bilingual-babies.com
SUMMARY:Performance of "RUMPELSTILZCHEN" and after-show workshop
DESCRIPTION:Sunday\, January 26\, 2020\, 10:30am-12:30pm at Deutsches Haus at NYU\, 42 Washington Mews\, New York\, NY \nDeutsches Haus at NYU is delighted to present a fairy tale morning in collaboration with Galli Theater. Please join us for this fun performance and after-show workshop for the whole family on Sunday\, January 26. Galli Theater’s aim is to spread joy to the audience. Their fairy tale productions are once humorous\, exciting\, and philosophical\, but never grim. The actors encourage the children to come on stage and interact with them. \nPlease note that this event will be held in German. \nFor more information read here.
URL:https://bilingual-babies.com/event/performance-of-rumpelstilzchen-and-after-show-workshop/
LOCATION:Deutsches Haus at NYU\, 42 Washington Mews\, New York\, NY\, NY\, United States
CATEGORIES:Children's theater
ATTACH;FMTTYPE=image/png:https://bilingual-babies.com/wp-content/uploads/2020/01/masks-1700440-e1578833445421.png
END:VEVENT
BEGIN:VEVENT
DTSTART;TZID=America/New_York:20200125T100000
DTEND;TZID=America/New_York:20200125T150000
DTSTAMP:20260423T014109
CREATED:20200112T130545Z
LAST-MODIFIED:20200112T130545Z
UID:2975-1579946400-1579964400@bilingual-babies.com
SUMMARY:2020 Multilingual Education Fair of DC
DESCRIPTION:In partnership with the key education institutions of the DC region\, the fair features 150+ exhibitors covering 18+ languages to allow you to explore and deepen your linguistic and cultural skills\, and learn about careers where languages are crucial. \nResources for young professionals\, families and educators include language classes for all ages\, apps\, books\, tutors\, assessments\, travel abroad programs\, university programs\, dual language programs\, after school programs\, daycares\, language and culture organizations\, embassies and multilingual recruiters.
URL:https://bilingual-babies.com/event/2020-multilingual-education-fair-of-dc/
LOCATION:Roosevelt High School 4301 13th St NW Washington\, DC 20011 United States
CATEGORIES:Conference/fair
ATTACH;FMTTYPE=image/jpeg:https://bilingual-babies.com/wp-content/uploads/2020/01/https-cdn.evbuc_.com-images-86769955-128895040329-1-original.20200108-161416.jpeg
END:VEVENT
BEGIN:VEVENT
DTSTART;TZID=America/New_York:20181112T190000
DTEND;TZID=America/New_York:20181112T200000
DTSTAMP:20260423T014109
CREATED:20180705T121653Z
LAST-MODIFIED:20181210T214744Z
UID:1123-1542049200-1542052800@bilingual-babies.com
SUMMARY:Bilingual Parenting Talk
DESCRIPTION:Have you ever heard people say that kids get confused with multiple languages? That bilingual children talk later than their monolingual peers? Or that multiple languages may jeopardize a child’s academic success at school? Then you have heard some of the most common myths about bilingualism! Which\, by the way\, are not true! \nIn this talk\, Dr. Laughlin will take a closer look at the most common myths and misconceptions about bilingualism that still exist in today’s society. Drawing upon the latest research\, she will unravel each misconception and provide insights into the actual advantages and benefits of being bilingual—beyond just being able to speak more than one language. Additionally\, Dr. Laughlin will share practical tips\, advice\, and strategies that parents and teachers can use to support children on their bilingual journeys. So join us and learn why raising a child bilingually is like a recipe for success and how you can make it work! \nIt’s free! Sign up here!
URL:https://bilingual-babies.com/event/bilingual-parenting-talk/
LOCATION:Bernards Township Library\, South Maple Avenue\,\, Basking Ridge\, NJ 07920\, United States
ATTACH;FMTTYPE=image/jpeg:https://bilingual-babies.com/wp-content/uploads/2018/07/BiliBabies_talk_poster-e1542220044224.jpg
END:VEVENT
BEGIN:VEVENT
DTSTART;TZID=UTC:20181010T190000
DTEND;TZID=UTC:20181010T203000
DTSTAMP:20260423T014109
CREATED:20180630T210710Z
LAST-MODIFIED:20181012T010702Z
UID:945-1539198000-1539203400@bilingual-babies.com
SUMMARY:Bilingual parenting workshop
DESCRIPTION:Are you already raising bilingual kids? Are you thinking about it? Or would like to do it but can’t find the time for it?  If you answer any of these questions with a “yes”\, then this workshop is for you!  \nThe workshop provides an introduction to what it means to be bilingual and how parents can support their children’s bilingual development—whether you as a parent are bilingual or monolingual. You will learn about advantages and benefits of being bilingual. We will explore common myths about bilingualism in our current society and discuss daily challenges of raising children with multiple languages. Additionally\, you will get language tips and strategies as well as ideas for games and activities that you can incorporate into your busy schedules in order to guide your child’s bilingual journey.  \nFor more info see here: http://www.bernardsvillelibrary.org/program/bilingual/
URL:https://bilingual-babies.com/event/bilingual-parenting-workshop/
LOCATION:Bernardsville Public Library\, 1 Anderson Hill Road\, Bernardsville\, 07924\, United States
ATTACH;FMTTYPE=image/jpeg:https://bilingual-babies.com/wp-content/uploads/2015/11/family.jpg
END:VEVENT
END:VCALENDAR